BEGIN:VCALENDAR
VERSION:2.0
PRODID:-//  Drexel IEEE Graduate (DIG) Forum - ECPv4.9.10//NONSGML v1.0//EN
CALSCALE:GREGORIAN
METHOD:PUBLISH
X-WR-CALNAME:  Drexel IEEE Graduate (DIG) Forum
X-ORIGINAL-URL:https://www.techserv.drexel.edu/~dig
X-WR-CALDESC:Events for   Drexel IEEE Graduate (DIG) Forum
BEGIN:VTIMEZONE
TZID:America/New_York
BEGIN:DAYLIGHT
TZOFFSETFROM:-0500
TZOFFSETTO:-0400
TZNAME:EDT
DTSTART:20190310T070000
END:DAYLIGHT
BEGIN:STANDARD
TZOFFSETFROM:-0400
TZOFFSETTO:-0500
TZNAME:EST
DTSTART:20191103T060000
END:STANDARD
END:VTIMEZONE
BEGIN:VEVENT
DTSTART;VALUE=DATE:20190306
DTEND;VALUE=DATE:20190307
DTSTAMP:20260426T014552
CREATED:20190122T163616Z
LAST-MODIFIED:20190123T025941Z
UID:1542-1551830400-1551916799@www.techserv.drexel.edu
SUMMARY:11th Annual Research Symposium
DESCRIPTION:The Drexel IEEE Graduate Forum(DIG) is organizing its 11th Annual Research Symposium on Wednesday\, March 6 2019. The symposium is a good opportunity for students to exhibit their research work and network with fellow engineers. We would like to invite the undergraduate seniors\, M.S. and PhD engineering students to submit the posters and take part in this event. Interested post-doctoral fellows are also welcome to submit their posters\, but would not be judged in the event. \nInstructions for the event: 1. Posters will be evaluated on originality\, presenter’s knowledge\, visual presentation\, and content by faculty members. The three top graded posters will receive cash prizes. 2. The 1st\, 2nd and 3rd place posters win cash prizes! (a total of $1000 for awards) 3. Free poster printing for final posters submitted before the deadline Kindly note the deadlines for submission of posters: • Deadline for abstract: Sunday February\, 10th 2019. Link: https://lnkd.in/edmaeTH • Deadline for poster: Sunday February\, 17th 2019. Link: https://lnkd.in/ef6Q6fx  \n  \n
URL:https://www.techserv.drexel.edu/~dig/event/11th-annual-research-symposium/
CATEGORIES:11th Annual Research Symposium
END:VEVENT
END:VCALENDAR