BEGIN:VCALENDAR
VERSION:2.0
PRODID:-//  Drexel IEEE Graduate (DIG) Forum - ECPv4.9.10//NONSGML v1.0//EN
CALSCALE:GREGORIAN
METHOD:PUBLISH
X-WR-CALNAME:  Drexel IEEE Graduate (DIG) Forum
X-ORIGINAL-URL:https://www.techserv.drexel.edu/~dig
X-WR-CALDESC:Events for   Drexel IEEE Graduate (DIG) Forum
BEGIN:VTIMEZONE
TZID:America/New_York
BEGIN:DAYLIGHT
TZOFFSETFROM:-0500
TZOFFSETTO:-0400
TZNAME:EDT
DTSTART:20180311T070000
END:DAYLIGHT
BEGIN:STANDARD
TZOFFSETFROM:-0400
TZOFFSETTO:-0500
TZNAME:EST
DTSTART:20181104T060000
END:STANDARD
END:VTIMEZONE
BEGIN:VEVENT
DTSTART;TZID=America/New_York:20180404T090000
DTEND;TZID=America/New_York:20180404T153000
DTSTAMP:20260426T031622
CREATED:20180222T054016Z
LAST-MODIFIED:20180319T173039Z
UID:1408-1522832400-1522855800@www.techserv.drexel.edu
SUMMARY:10th Annual Research Symposium
DESCRIPTION:DIG presents the 10th Annual Research Symposium. Calling for posters. The event will be held on April 4 from 9 AM to 3.30 PM. \nRegister here: https://goo.gl/forms/lVX07o1gNWvmBl532 \n \n
URL:https://www.techserv.drexel.edu/~dig/event/10th-annual-research-symposium/
END:VEVENT
END:VCALENDAR